BEGIN:VCALENDAR
VERSION:2.0
PRODID:-//eventon.com NONSGML v1.0//EN
CALSCALE:GREGORIAN
METHOD:PUBLISH
BEGIN:VEVENT
UID:69e5de3658dc9
DTSTAMP:20260420T080510Z
DTSTART:20210715T170000Z
DTEND:20210715T215000Z
LOCATION:Griechische Restaurant Korfu Glienicker Dorfstr. 15\,  14476 Potsdam
SUMMARY:Ordentliche Jahreshauptversammlung 2021 - Nur Mitglieder - Anmeldung geschlossen
DESCRIPTION:&#8211; Sollte die Anmeldung nicht funktionieren\,  bitte einma
 l auf die Startseite gehen und die Cookies akzeptieren. &#8211;  Hallo lie
 be Mitglieder\,  als Vorstand der Gewerbegemeinschaft Groß Glienicke e.V. 
 laden wir Sie zur ordentlichen Jahreshauptversammlung 2021 ein. Gerne möch
 ten wir Euch allen die Möglichkeit bieten\,  aktiv an der Umsetzung der Ja
 hreshauptversammlung und[..]\nhttps://gewerbegemeinschaft.org/events/ordent
 liche-jahreshauptversammlung-2021/
URL:https://gewerbegemeinschaft.org/events/ordentliche-jahreshauptversammlung-2021/
END:VEVENT
END:VCALENDAR