BEGIN:VCALENDAR
VERSION:2.0
PRODID:-//eventon.com NONSGML v1.0//EN
CALSCALE:GREGORIAN
METHOD:PUBLISH
BEGIN:VEVENT
UID:69e5dc8aaef4f
DTSTAMP:20260420T075802Z
DTSTART:20190509T170000Z
DTEND:20190509T215000Z
LOCATION:Havelland-Apotheke Sakrower Landstr. 6\,  14089 Berlin
SUMMARY:Stammtisch Gewerbegemeinschaft Havelbogen am 09.05.2019
DESCRIPTION:Fragen zur Veranstaltung bitte an Sabine Krause richten: Tel.: 
 030/365 5955 vorstand@havelbogen.de Liebe Mitglieder und Freunde des Havelb
 ogens\,  der Maistammtisch findet am Donnerstag\,  den 09.05.2019 um 19 Uhr
  in der Havelland-Apotheke\,  Sakrower Landstr. 6 bzw. bei hoffentlich schÃ
 ¶nem Wetter im Apothekengarten statt. Bis dahin viele GrÃ¼ÃŸe Eure Sabine K
 rause *[..]\nhttps://gewerbegemeinschaft.org/events/stammtisch-gewerbegemei
 nschaft-havelbogen-20190509/
URL:https://gewerbegemeinschaft.org/events/stammtisch-gewerbegemeinschaft-havelbogen-20190509/
END:VEVENT
END:VCALENDAR