BEGIN:VCALENDAR
VERSION:2.0
PRODID:-//eventon.com NONSGML v1.0//EN
CALSCALE:GREGORIAN
METHOD:PUBLISH
BEGIN:VEVENT
UID:69e5dbf8bd468
DTSTAMP:20260420T075536Z
DTSTART:20190303T113000Z
DTEND:20190303T225000Z
LOCATION:Die Villa - Potsdam Jägerallee 1\,  14469 Potsdam
SUMMARY:Knigge Seminar "Gutes Benehmen an Tisch und Tafel"\,  3 Stunden
DESCRIPTION:Tischmanieren haben nichts mit Etepetete zu tun. Sie sind selbs
 tverständlich und vermitteln Sicherheit und Wertschätzung. Setzen Sie sic
 h mit uns an den gedeckten Tisch und lernen Sie mit Vergnügen zu! zur Anme
 ldeseite (tramendo) Termin: 03. März 2019 Uhrzeit: pünktlich um 12:30 Uh
 r Ort: Ristorante Villa Jägerallee 1 14469 Potsdam Webseite: www.dievilla-
 potsdam.de[..]\nhttps://gewerbegemeinschaft.org/events/knigge-seminar-20190
 303/
URL:https://gewerbegemeinschaft.org/events/knigge-seminar-20190303/
END:VEVENT
END:VCALENDAR