BEGIN:VCALENDAR
VERSION:2.0
PRODID:-//eventon.com NONSGML v1.0//EN
CALSCALE:GREGORIAN
METHOD:PUBLISH
BEGIN:VEVENT
UID:69e5dc6e69c03
DTSTAMP:20260420T075734Z
DTSTART:20180820T170000Z
DTEND:20180820T215000Z
LOCATION:Restaurant Helmut am Campingplatz Kladow Krampnitzer Weg 111\,  14089 Berlin
SUMMARY:Stammtisch am 20.08.2018 im Restaurant und Biergarten am Campingplatz Kladow
DESCRIPTION:Hallo liebe Mitglieder und Interessenten\,  unser August-Stammt
 isch wird im Zeichen der neuen Mitglieder stehen. Seit dem letzten Stammtis
 ch hat es hier regen Zuwachs (5 neue Mitglieder) gegeben. Aus diesem Anlass
  findet unser nächster Stammtisch auch gleich bei einem neuen Mitglied\,  
 Herrn Droge vom Restaurant und Biergarten am Campingplatz Kladow statt. Id
 yllisch[..]\nhttps://gewerbegemeinschaft.org/events/stammtisch-20-08-2018/
URL:https://gewerbegemeinschaft.org/events/stammtisch-20-08-2018/
END:VEVENT
END:VCALENDAR